BEGIN:VCALENDAR
VERSION:2.0
PRODID:-//Debtors Anonymous - ECPv6.15.20//NONSGML v1.0//EN
CALSCALE:GREGORIAN
METHOD:PUBLISH
X-WR-CALNAME:Debtors Anonymous
X-ORIGINAL-URL:https://www.debtorsanonymous.org
X-WR-CALDESC:Events for Debtors Anonymous
REFRESH-INTERVAL;VALUE=DURATION:PT1H
X-Robots-Tag:noindex
X-PUBLISHED-TTL:PT1H
BEGIN:VTIMEZONE
TZID:America/New_York
BEGIN:DAYLIGHT
TZOFFSETFROM:-0500
TZOFFSETTO:-0400
TZNAME:EDT
DTSTART:20160313T070000
END:DAYLIGHT
BEGIN:STANDARD
TZOFFSETFROM:-0400
TZOFFSETTO:-0500
TZNAME:EST
DTSTART:20161106T060000
END:STANDARD
BEGIN:DAYLIGHT
TZOFFSETFROM:-0500
TZOFFSETTO:-0400
TZNAME:EDT
DTSTART:20170312T070000
END:DAYLIGHT
BEGIN:STANDARD
TZOFFSETFROM:-0400
TZOFFSETTO:-0500
TZNAME:EST
DTSTART:20171105T060000
END:STANDARD
BEGIN:DAYLIGHT
TZOFFSETFROM:-0500
TZOFFSETTO:-0400
TZNAME:EDT
DTSTART:20180311T070000
END:DAYLIGHT
BEGIN:STANDARD
TZOFFSETFROM:-0400
TZOFFSETTO:-0500
TZNAME:EST
DTSTART:20181104T060000
END:STANDARD
END:VTIMEZONE
BEGIN:VEVENT
DTSTART;TZID=America/New_York:20171029T130000
DTEND;TZID=America/New_York:20171029T143000
DTSTAMP:20260421T043247
CREATED:20171018T225532Z
LAST-MODIFIED:20171019T183335Z
UID:1711-1509282000-1509287400@www.debtorsanonymous.org
SUMMARY:Visions - Individual\, a Fellowship-Wide Call
DESCRIPTION:Sunday\, October 29th\, 2017 from 1:00 p.m. EST to 2:30 p.m. EST \nSee flyer for more details: \n\n    \n    \n    \n    \n    Visions - Individual flyer\n\nThe WSC Fellowship Communications Committee Presents “Visions – Individual”  \nDA Members Share Their Experience Strength and Hope \nThis Fellowship-wide call will explore the many levels in which having a clear vision can contribute to spiritual growth and our individual capacities for abundance. Many of us came into DA in a state of complete helplessness and hopelessness – stuck in a restricted life where we were constantly gasping for breath. Accompanied with the steps and tools of DA\, being willing to explore and move toward our visions can result in profound displays of DA’s promises. \nCome join us in to hear personal stories of visions realized\, and how three members moved from a life of unmanageability to a life of dreams and visions realized. Through recovery\, as we align our will with a Power Greater than ourselves\, we begin to live our deepest visions\, sometimes in unexpected ways\, and find freedom\, happiness\, and serenity\, beyond our wildest dreams.                                                                                                                                                                   \n                                                                                                                               Participants – Worldwide Debtors Anonymous Members at all service levels and especially Newcomers. \nDate: Sunday\, October 29\, 2017 \nTime: 1:00 – 2:30 EST \nDial In: 1 (319) 527-2700 Enter Access Code: 214381#  (US and Canada) \n  \nSome charges may apply\, depending on your phone service.  Web-based phone alternatives are available. See list below for international numbers. \nTo listen to the recorded calls dial (319) 527-2885 Code 214381# Press #1                                                                                                                                      \nUpcoming FCC “Visions Phone Forums” \n“Visions – Group” and “Visions – Fellowship.” \nDates will be announced once they are finalized. \n\nResponsibility Pledge: “I pledge to extend my hand and offer the hope of recovery to anyone who reaches out to Debtors Anonymous.” \n  \nPlease share this announcement at your meetings. \nPlease forward this e-mail to other D.A. members. \n  \n  \nFollowing are International dial-in numbers. Access Code: 214381# \n\n\n\nAfghanistan    93 72 989 0507\nAlbania    355 4 454 1701\nAlgeria    213 98 221 05 14\nArgentina    54 11 5031-9549\nAustralia    61 2 4238 5110\nAustria    43 1 2650531\nBahrain    973 6500 9148\nBelgium    32 3 294 11 44\nBrazil    55 11 3042-5280\nBulgaria    359 2 495 1702\nCambodia    855 96 696 7834     \nCanada   – please use the US number\nChile    56 2 3210 9931\nColombia    57 6 7334216\nCosta Rica    506 4090 1316\nCroatia    385 1 8000 112\nCyprus    357 77 788681\nCzech    420 225 852 074\nDenmark    45 78 73 09 82\nDominican Republic  1 829-239-8021\nEstonia    372 614 8083\nFinland    358 9 74790092\nFrance    33 7 55 51 17 60\nGeorgia    995 706 777 552\nGermany    49 209 88294432\nGuatemala    502 2458 1440\nHungary    36 1 999 0142\nIceland    354 539 0342\nIndia    91 172 519 9235\nIreland    353 1 907 9710\nIsrael    972 55-966-1091\nItaly    39 051 092 0293   \nJapan    81 3-5050-5110\nKenya    254 20 7653271\nKosovo    381 38 413912\nLatvia    371 67 660 183\nLithuania    370 661 05774\nLuxembourg    352 20 30 12 22\nMalaysia    60 11-1146 0062\nMexico    52 899 274 8612\nNetherlands    31 6 56251800\nNew Zealand    64 6-928 7534\nNigeria    234 1 440 5014\nNorway    47 56 90 10 24\nPakistan    92 21 37132313\nPanama    507 833-6913\nPoland    48 22 116 85 52\nPortugal    351 21 114 3153\nRomania    40 31 780 7043\nRussian Federation   7 499 371-07-21\nSlovakia    421 55/230 45 34\nSlovenia    386 1 828 08 70\nSouth Africa    27 87 825 0151\nSouth Korea    82 70-7737-3404\nSpain    34 857 80 11 20\nSweden    46 8 124 108 11\nSwitzerland    41 44 595 90 33\nTanzania    255 41 120 1001\nTurkey    90 212 988 1770\nUkraine    380 94 710 5820\nUnited Kingdom    44 330 998 1257\nUnited States    1 319-527-2700   \n\n\n\n  \n  \n  \n  \n 
URL:https://www.debtorsanonymous.org/event/visions-individual-a-fellowship-wide-call/
END:VEVENT
END:VCALENDAR