BEGIN:VCALENDAR
VERSION:2.0
PRODID:-//Debtors Anonymous - ECPv6.15.20//NONSGML v1.0//EN
CALSCALE:GREGORIAN
METHOD:PUBLISH
X-ORIGINAL-URL:https://www.debtorsanonymous.org
X-WR-CALDESC:Events for Debtors Anonymous
REFRESH-INTERVAL;VALUE=DURATION:PT1H
X-Robots-Tag:noindex
X-PUBLISHED-TTL:PT1H
BEGIN:VTIMEZONE
TZID:America/New_York
BEGIN:DAYLIGHT
TZOFFSETFROM:-0500
TZOFFSETTO:-0400
TZNAME:EDT
DTSTART:20170312T070000
END:DAYLIGHT
BEGIN:STANDARD
TZOFFSETFROM:-0400
TZOFFSETTO:-0500
TZNAME:EST
DTSTART:20171105T060000
END:STANDARD
BEGIN:DAYLIGHT
TZOFFSETFROM:-0500
TZOFFSETTO:-0400
TZNAME:EDT
DTSTART:20180311T070000
END:DAYLIGHT
BEGIN:STANDARD
TZOFFSETFROM:-0400
TZOFFSETTO:-0500
TZNAME:EST
DTSTART:20181104T060000
END:STANDARD
BEGIN:DAYLIGHT
TZOFFSETFROM:-0500
TZOFFSETTO:-0400
TZNAME:EDT
DTSTART:20190310T070000
END:DAYLIGHT
BEGIN:STANDARD
TZOFFSETFROM:-0400
TZOFFSETTO:-0500
TZNAME:EST
DTSTART:20191103T060000
END:STANDARD
END:VTIMEZONE
BEGIN:VEVENT
DTSTART;TZID=America/New_York:20180107T140000
DTEND;TZID=America/New_York:20180107T153000
DTSTAMP:20260421T000436
CREATED:20171201T045937Z
LAST-MODIFIED:20180106T010828Z
UID:1742-1515333600-1515339000@www.debtorsanonymous.org
SUMMARY:What It Means to Have Spiritually Sustainable Earning (Fellowship-wide Call)
DESCRIPTION:Call-in Number: +1(712) 451- 0894 / Access Code: 607611#\nPlayback: (712) 451- 1002 / Code 607611# Press #\nThis is the first world-wide call presented by the Spiritually\nSustainable Earning Caucus of the World Service Conference (WSC).
URL:https://www.debtorsanonymous.org/event/what-it-means-to-have-spiritually-sustainable-earning-fellowship-wide-call/
END:VEVENT
END:VCALENDAR