BEGIN:VCALENDAR
VERSION:2.0
PRODID:-//Debtors Anonymous - ECPv6.15.20//NONSGML v1.0//EN
CALSCALE:GREGORIAN
METHOD:PUBLISH
X-WR-CALNAME:Debtors Anonymous
X-ORIGINAL-URL:https://www.debtorsanonymous.org
X-WR-CALDESC:Events for Debtors Anonymous
REFRESH-INTERVAL;VALUE=DURATION:PT1H
X-Robots-Tag:noindex
X-PUBLISHED-TTL:PT1H
BEGIN:VTIMEZONE
TZID:America/New_York
BEGIN:DAYLIGHT
TZOFFSETFROM:-0500
TZOFFSETTO:-0400
TZNAME:EDT
DTSTART:20170312T070000
END:DAYLIGHT
BEGIN:STANDARD
TZOFFSETFROM:-0400
TZOFFSETTO:-0500
TZNAME:EST
DTSTART:20171105T060000
END:STANDARD
BEGIN:DAYLIGHT
TZOFFSETFROM:-0500
TZOFFSETTO:-0400
TZNAME:EDT
DTSTART:20180311T070000
END:DAYLIGHT
BEGIN:STANDARD
TZOFFSETFROM:-0400
TZOFFSETTO:-0500
TZNAME:EST
DTSTART:20181104T060000
END:STANDARD
BEGIN:DAYLIGHT
TZOFFSETFROM:-0500
TZOFFSETTO:-0400
TZNAME:EDT
DTSTART:20190310T070000
END:DAYLIGHT
BEGIN:STANDARD
TZOFFSETFROM:-0400
TZOFFSETTO:-0500
TZNAME:EST
DTSTART:20191103T060000
END:STANDARD
END:VTIMEZONE
BEGIN:VEVENT
DTSTART;TZID=America/New_York:20180127T120000
DTEND;TZID=America/New_York:20180127T133000
DTSTAMP:20260420T204625
CREATED:20180122T052421Z
LAST-MODIFIED:20180122T052421Z
UID:1792-1517054400-1517059800@www.debtorsanonymous.org
SUMMARY:GSB-PI Media Contact Training Fellowship-Wide Call
DESCRIPTION:Fellowship-Wide Call\nGSB-PI Media Contact Training\n\nSaturday 1/27/18 \n12 PM – 1:30 PM ET; 9 AM – 10:30 PM PT; 5 PM – 6:30 PM GMT\n\n\n\n\nContact Person and Call leader: Siobhan\, Appointed Committee Member (ACM) to GSB-PI   siobhanwithgratitude@gmail.com\n\nParticipants: Training will be open to all D.A. members\, both those who wish to learn how to respond to requests by the media for information about D. A.\, and members who would like to learn more about how to discuss D.A. with people outside of the Fellowship.\n\nPurpose of This Call: To train D.A. members who may wish to respond to inquiries from the media about D.A.\n\n\n Pre-Training Suggested Reading List:\n-Twelve Steps & Twelve Traditions and Twelve Concepts of Debtors Anonymous:\n             Traditions Three\, Five\, Ten\, Eleven\, and Twelve\n-Public Information Manual for Debtors Anonymous:\npage 6 – Some Responsibilities of PI Reps (mentions Media Training)\npages 8 – 9 – Media Contact Training\npage 10 – Guidelines for D.A. Members responding to the media\npage 11 – Suggested Criteria for D.A. Speakers’ Media Interviews\npage 12 – Guidelines for Understating D.A.’s Tradition of Attraction vs. Promotion\npage 13 – Activities not Recommended for Attracting Members\npage 16 – Memo for Members when Dealing with or Contacting the Media\npage 18 – History of D.A.\npage 25 – Memo to the Media & Press\npage 29 – Media Guidelines\npage 30 – Suggested Media Release Form\npage 34 – D.A. IS & D.A. Is NOT\n\nImportant Tools:\n              -Debtors Anonymous website  www.debtorsanonymous.org\n–https://debtorsanonymous.org/getting-started/free-literature for the Debtors Anonymous Manual for Service and Twelve Signs of Compulsive Debting\n-Public Information Manual for Debtors Anonymous: http://debtorsanonymous.org/fellowship-services/public-information\n-The Twelve Steps\, Twelve Traditions\, and Twelve Concepts of Debtors Anonymous: Thirty- Six Principles of Recovery\, available for purchase at https://debtorsanonymous.org/fellowship-services/order-literature\n\n-Your own anonymous email\n\n\n\n\n\n\n\n\n\n\n\n\n\n\n\n\nUSA & CANADA CALL-IN NUMBER 712.451.0983 access code 172285# To playback the recording (speaker shares only) 712.451.1092 access code 172285#\n\nConnect across the globe Provide participants with a local in-country dial-in number from any of the 61 countries listed below: Access Code: 172285#\n\n\nAfghanistan +93 72 989 0500\nAlbania    +355 4 454 1711\nAlgeria    +213 98 221 82 19\nAlgeria    +213 98 221 05 00\nArgentina    +54 351 569-7181\nAustralia    +61 2 8077 0510\nAustria    +43 1 2650522\nBahrain    +973 6500 9144\nBelgium    +32 3 294 11 43\nBrazil    +55 11 3042-5271\nBulgaria    +359 2 495 1583\nCambodia    +855 96 696 7782\nChile    +56 2 3210 9952\nColombia    +57 6 7334214\nCroatia    +385 1 8000 093\nCyprus    +357 77 788674\nCzech    +420 225 852 071\nDenmark    +45 78 73 06 62\nDominican Republic    +1 829-239-8023\nEstonia    +372 614 8081\nFinland    +358 9 74791021\nFrance    +33 7 55 51 15 16\nGeorgia    +995 706 777 103\nGermany    +49 221 98203453\nGuatemala    +502 2458 1433\nHungary    +36 1 987 6882\nIceland    +354 539 0335\nIndia    +91 172 519 9217\nIreland    +353 1 907 9711\nIsrael    +972 55-966-1082\nItaly    +39 051 092 0291\nJapan    +81 3-5050-5102\nKenya    +254 20 7653262\nKosovo    +381 38 413913   Afghanistan +93 72 989 0500\nAlbania    +355 4 454 1711\nAlgeria    +213 98 221 82 19\nAlgeria    +213 98 221 05 00\nArgentina    +54 351 569-7181\nAustralia    +61 2 8077 0510\nAustria    +43 1 2650522\nBahrain    +973 6500 9144\nBelgium    +32 3 294 11 43\nBrazil    +55 11 3042-5271\nBulgaria    +359 2 495 1583\nCambodia    +855 96 696 7782\nChile    +56 2 3210 9952\nLatvia    +371 67 660 173\nLithuania    +370 46 268643\nLuxembourg    +352 20 30 10 21\nMalaysia    +60 11-1146 0052\nMexico    +52 899 274 8542\nNetherlands    +31 6 35205043\nNew Zealand    +64 7-974 6520\nNigeria    +234 1 440 5030\nNorway    +47 56 90 10 21\nPakistan    +92 21 37132334\nPanama    +507 838-7864\nPoland    +48 22 116 85 42\nPortugal    +351 21 114 3143\nRomania    +40 31 780 7032\nRussian Federation    +7 499 371-07-12\nSlovakia    +421 2/336 633 23\nSlovenia    +386 1 828 03 33\nSouth Africa    +27 87 825 0133\nSouth Korea    +82 70-7737-3401\nSpain    +34 857 80 11 12\nSweden    +46 8 124 107 20\nSwitzerland    +41 44 513 30 28\nTanzania    +255 41 120 1011\nTurkey    +90 212 988 1751\nUkraine    +380 94 710 5443\nUnited Kingdom    +44 330 998 1253\nUnited States    +1 319 527-2700
URL:https://www.debtorsanonymous.org/event/gsb-pi-media-contact-training-fellowship-wide-call/
END:VEVENT
END:VCALENDAR