BEGIN:VCALENDAR
VERSION:2.0
PRODID:-//Debtors Anonymous - ECPv6.15.20//NONSGML v1.0//EN
CALSCALE:GREGORIAN
METHOD:PUBLISH
X-ORIGINAL-URL:https://www.debtorsanonymous.org
X-WR-CALDESC:Events for Debtors Anonymous
REFRESH-INTERVAL;VALUE=DURATION:PT1H
X-Robots-Tag:noindex
X-PUBLISHED-TTL:PT1H
BEGIN:VTIMEZONE
TZID:America/New_York
BEGIN:DAYLIGHT
TZOFFSETFROM:-0500
TZOFFSETTO:-0400
TZNAME:EDT
DTSTART:20170312T070000
END:DAYLIGHT
BEGIN:STANDARD
TZOFFSETFROM:-0400
TZOFFSETTO:-0500
TZNAME:EST
DTSTART:20171105T060000
END:STANDARD
BEGIN:DAYLIGHT
TZOFFSETFROM:-0500
TZOFFSETTO:-0400
TZNAME:EDT
DTSTART:20180311T070000
END:DAYLIGHT
BEGIN:STANDARD
TZOFFSETFROM:-0400
TZOFFSETTO:-0500
TZNAME:EST
DTSTART:20181104T060000
END:STANDARD
BEGIN:DAYLIGHT
TZOFFSETFROM:-0500
TZOFFSETTO:-0400
TZNAME:EDT
DTSTART:20190310T070000
END:DAYLIGHT
BEGIN:STANDARD
TZOFFSETFROM:-0400
TZOFFSETTO:-0500
TZNAME:EST
DTSTART:20191103T060000
END:STANDARD
END:VTIMEZONE
BEGIN:VEVENT
DTSTART;TZID=America/New_York:20180325T120000
DTEND;TZID=America/New_York:20180325T140000
DTSTAMP:20260420T204816
CREATED:20180311T193030Z
LAST-MODIFIED:20180311T193030Z
UID:1845-1521979200-1521986400@www.debtorsanonymous.org
SUMMARY:WSC P.I. Fellowship-Wide Call: Public Outreach - Attraction\, Not Promotion
DESCRIPTION:This call will cover the following topics and provide an opportunity for\nmembers to learn about the following aspects of Public Information and\nservice in Debtors Anonymous:\n\n? Working with the Beginner Face to Face utilizing Traditions 1\,2 3 \n\n? How do the Traditions help communication with an institution such\nas a jail\, university\, or health fair? \n\n? How does the Tradition of Anonymity inform the process of “Carrying\nthe Message” and Public Information Work? \n\nThe Public Information Committee Fellowship-wide call will be held\non Sunday\, March 25\, 2018\n12-2 pm Eastern Time\n5-7 pm UTC \n\nPlease confirm the meeting time for your local time zone. \n\nThe focus of this call will be on how to carry the DA message in line with the\ntraditions. Three members of the Fellowship will share their experience\,\nstrength and hope on how these three aspects of Public Information service\nhave impacted their recovery. This portion of the call will be recorded.\nParticipants will have time to ask questions and make comments. The\nquestion and comment portion of the call will not be recorded. \n\nDial-in number: 1-515-739-1424 Access code: 796199#\nPlayback: 1-515-739-1554 Access code: 796199# Press #
URL:https://www.debtorsanonymous.org/event/wsc-p-i-fellowship-wide-call-public-outreach-attraction-not-promotion/
END:VEVENT
END:VCALENDAR