BEGIN:VCALENDAR
VERSION:2.0
PRODID:-//Debtors Anonymous - ECPv6.15.20//NONSGML v1.0//EN
CALSCALE:GREGORIAN
METHOD:PUBLISH
X-ORIGINAL-URL:https://www.debtorsanonymous.org
X-WR-CALDESC:Events for Debtors Anonymous
REFRESH-INTERVAL;VALUE=DURATION:PT1H
X-Robots-Tag:noindex
X-PUBLISHED-TTL:PT1H
BEGIN:VTIMEZONE
TZID:America/New_York
BEGIN:DAYLIGHT
TZOFFSETFROM:-0500
TZOFFSETTO:-0400
TZNAME:EDT
DTSTART:20170312T070000
END:DAYLIGHT
BEGIN:STANDARD
TZOFFSETFROM:-0400
TZOFFSETTO:-0500
TZNAME:EST
DTSTART:20171105T060000
END:STANDARD
BEGIN:DAYLIGHT
TZOFFSETFROM:-0500
TZOFFSETTO:-0400
TZNAME:EDT
DTSTART:20180311T070000
END:DAYLIGHT
BEGIN:STANDARD
TZOFFSETFROM:-0400
TZOFFSETTO:-0500
TZNAME:EST
DTSTART:20181104T060000
END:STANDARD
BEGIN:DAYLIGHT
TZOFFSETFROM:-0500
TZOFFSETTO:-0400
TZNAME:EDT
DTSTART:20190310T070000
END:DAYLIGHT
BEGIN:STANDARD
TZOFFSETFROM:-0400
TZOFFSETTO:-0500
TZNAME:EST
DTSTART:20191103T060000
END:STANDARD
END:VTIMEZONE
BEGIN:VEVENT
DTSTART;TZID=America/New_York:20180331T120000
DTEND;TZID=America/New_York:20180331T120000
DTSTAMP:20260420T111156
CREATED:20180226T012102Z
LAST-MODIFIED:20180226T012429Z
UID:1836-1522497600-1522497600@www.debtorsanonymous.org
SUMMARY:2018 John H. Scholarship Contributions Accepted Through March 31
DESCRIPTION:What Is the John H. Scholarship Fund?\nEstablished in honor of D.A.’s founder\, John H.\, scholarships are awarded to groups that do not\nhave sufficient funds to cover the expense of sending their General Service Representative (GSR) or\nIntergroup Service Representative (ISR) to the annual D.A. World Service Conference (WSC).\nDuring the past six years\, D.A. groups have contributed a total of $39\,543 to the John H.\nScholarship Fund\, helping send 74 representatives to the WSC. In the 2016-17 Conference year\,\n$6\,507 was raised. This helped send 18 delegates to the 2017 conference in Dallas\, Texas\, USA –\ndelegates who otherwise might not have\nbeen able to attend.\nFor more information\, download the flyer:\nRDC 2018 John H FINAL (1) (1)
URL:https://www.debtorsanonymous.org/event/john-h-scholarship-contribution-accepted-until-march-31/
END:VEVENT
END:VCALENDAR