BEGIN:VCALENDAR
VERSION:2.0
PRODID:-//Debtors Anonymous - ECPv6.15.20//NONSGML v1.0//EN
CALSCALE:GREGORIAN
METHOD:PUBLISH
X-ORIGINAL-URL:https://www.debtorsanonymous.org
X-WR-CALDESC:Events for Debtors Anonymous
REFRESH-INTERVAL;VALUE=DURATION:PT1H
X-Robots-Tag:noindex
X-PUBLISHED-TTL:PT1H
BEGIN:VTIMEZONE
TZID:America/New_York
BEGIN:DAYLIGHT
TZOFFSETFROM:-0500
TZOFFSETTO:-0400
TZNAME:EDT
DTSTART:20170312T070000
END:DAYLIGHT
BEGIN:STANDARD
TZOFFSETFROM:-0400
TZOFFSETTO:-0500
TZNAME:EST
DTSTART:20171105T060000
END:STANDARD
BEGIN:DAYLIGHT
TZOFFSETFROM:-0500
TZOFFSETTO:-0400
TZNAME:EDT
DTSTART:20180311T070000
END:DAYLIGHT
BEGIN:STANDARD
TZOFFSETFROM:-0400
TZOFFSETTO:-0500
TZNAME:EST
DTSTART:20181104T060000
END:STANDARD
BEGIN:DAYLIGHT
TZOFFSETFROM:-0500
TZOFFSETTO:-0400
TZNAME:EDT
DTSTART:20190310T070000
END:DAYLIGHT
BEGIN:STANDARD
TZOFFSETFROM:-0400
TZOFFSETTO:-0500
TZNAME:EST
DTSTART:20191103T060000
END:STANDARD
END:VTIMEZONE
BEGIN:VEVENT
DTSTART;TZID=America/New_York:20180622T080000
DTEND;TZID=America/New_York:20180624T200000
DTSTAMP:20260420T003906
CREATED:20180325T203431Z
LAST-MODIFIED:20180325T203431Z
UID:1859-1529654400-1529870400@www.debtorsanonymous.org
SUMMARY:European Regional Intergroup Convention 2018
DESCRIPTION:The German speaking Intergroup of DA is happy to host this year’s Convention of the European Regional Intergroup.\nThe  convention will take place in a peaceful\, friendly conference facility in Elstal\, close to Berlin. Single\, twin and double bed room accommodation will be available. The site can be reached by public transport within 30 minutes from Berlin main station.\nThe lingua franca will be English\, and translations will be provided (English/German\, other languages as needed and where possible).\nBooking and registration are now open:\nhttps://europeanda.wordpress.com/2018-where-when/
URL:https://www.debtorsanonymous.org/event/european-regional-intergroup-convention-2018/
END:VEVENT
END:VCALENDAR