BEGIN:VCALENDAR
VERSION:2.0
PRODID:-//Debtors Anonymous - ECPv6.15.20//NONSGML v1.0//EN
CALSCALE:GREGORIAN
METHOD:PUBLISH
X-ORIGINAL-URL:https://www.debtorsanonymous.org
X-WR-CALDESC:Events for Debtors Anonymous
REFRESH-INTERVAL;VALUE=DURATION:PT1H
X-Robots-Tag:noindex
X-PUBLISHED-TTL:PT1H
BEGIN:VTIMEZONE
TZID:America/New_York
BEGIN:DAYLIGHT
TZOFFSETFROM:-0500
TZOFFSETTO:-0400
TZNAME:EDT
DTSTART:20170312T070000
END:DAYLIGHT
BEGIN:STANDARD
TZOFFSETFROM:-0400
TZOFFSETTO:-0500
TZNAME:EST
DTSTART:20171105T060000
END:STANDARD
BEGIN:DAYLIGHT
TZOFFSETFROM:-0500
TZOFFSETTO:-0400
TZNAME:EDT
DTSTART:20180311T070000
END:DAYLIGHT
BEGIN:STANDARD
TZOFFSETFROM:-0400
TZOFFSETTO:-0500
TZNAME:EST
DTSTART:20181104T060000
END:STANDARD
BEGIN:DAYLIGHT
TZOFFSETFROM:-0500
TZOFFSETTO:-0400
TZNAME:EDT
DTSTART:20190310T070000
END:DAYLIGHT
BEGIN:STANDARD
TZOFFSETFROM:-0400
TZOFFSETTO:-0500
TZNAME:EST
DTSTART:20191103T060000
END:STANDARD
END:VTIMEZONE
BEGIN:VEVENT
DTSTART;TZID=America/New_York:20180708T140000
DTEND;TZID=America/New_York:20180708T153000
DTSTAMP:20260419T213030
CREATED:20180611T185640Z
LAST-MODIFIED:20180611T194228Z
UID:1946-1531058400-1531063800@www.debtorsanonymous.org
SUMMARY:BDA Fellowship-Wide Call: The Tools of BDA
DESCRIPTION:A Spiritual Approach to Growing Your Business\nThe Tools of BDA\nTools 1-6 \nPART 3 IN A 3-PART SERIES\nThree speakers will speak on  BDA Tools 1-6:\n? We keep separate professional and personal financial records and bank accounts.\n? We write annual one-year business plans with definable and accountable goals and targets.\n? We keep clean\, orderly and accurate financial records\, including Accounts Receivable\, Accounts Payable\, Cash on Hand\, Inventory\, Assets\, and Outstanding Debts\, and put all tax and bill due dates on our calendar.\n? We pay ourselves a salary including benefits\, medical insurance\, vacations and sick days.\n? We remain mindful that dollars spent should generate revenue and compare prices before making purchases.\n? We maintain clarity about the overhead and profit margins of every product or service we sell.\nEach speaker will share their experience\, strength and hope\, for 15 minutes each\, on two BDA tools. After the speaker presentations\, callers will be given the opportunity to participate in timed shares.\nUSA & CANADA CALL-IN NUMBER 712.451.0983 access code 172285#\nTo playback the recording (speaker shares only) 712.451.1092 access code 172285#\nFor International Numbers\, download flyer: \n    \n    \n    \n    \n    BDA Fellowship-Wide Call: Tools of BDA 1-6
URL:https://www.debtorsanonymous.org/event/bda-fellowship-wide-call-the-tools-of-bda/
END:VEVENT
END:VCALENDAR