BEGIN:VCALENDAR
VERSION:2.0
PRODID:-//Debtors Anonymous - ECPv6.15.20//NONSGML v1.0//EN
CALSCALE:GREGORIAN
METHOD:PUBLISH
X-ORIGINAL-URL:https://www.debtorsanonymous.org
X-WR-CALDESC:Events for Debtors Anonymous
REFRESH-INTERVAL;VALUE=DURATION:PT1H
X-Robots-Tag:noindex
X-PUBLISHED-TTL:PT1H
BEGIN:VTIMEZONE
TZID:America/New_York
BEGIN:DAYLIGHT
TZOFFSETFROM:-0500
TZOFFSETTO:-0400
TZNAME:EDT
DTSTART:20170312T070000
END:DAYLIGHT
BEGIN:STANDARD
TZOFFSETFROM:-0400
TZOFFSETTO:-0500
TZNAME:EST
DTSTART:20171105T060000
END:STANDARD
BEGIN:DAYLIGHT
TZOFFSETFROM:-0500
TZOFFSETTO:-0400
TZNAME:EDT
DTSTART:20180311T070000
END:DAYLIGHT
BEGIN:STANDARD
TZOFFSETFROM:-0400
TZOFFSETTO:-0500
TZNAME:EST
DTSTART:20181104T060000
END:STANDARD
BEGIN:DAYLIGHT
TZOFFSETFROM:-0500
TZOFFSETTO:-0400
TZNAME:EDT
DTSTART:20190310T070000
END:DAYLIGHT
BEGIN:STANDARD
TZOFFSETFROM:-0400
TZOFFSETTO:-0500
TZNAME:EST
DTSTART:20191103T060000
END:STANDARD
END:VTIMEZONE
BEGIN:VEVENT
DTSTART;TZID=America/New_York:20181013T120000
DTEND;TZID=America/New_York:20181013T133000
DTSTAMP:20260419T164924
CREATED:20181008T050419Z
LAST-MODIFIED:20181008T050419Z
UID:2173-1539432000-1539437400@www.debtorsanonymous.org
SUMMARY:Fellowship-wide Call: Media Contact Training
DESCRIPTION:Fellowship-Wide Call GSB-PI Media Contact Training\nSaturday October 13\, 2018\n12 PM – 1:30 PM ET; 9 AM – 10:30 PM PT; 5 PM – 6:30 PM GMT \nDial-in number: 1-605-472-5540\, Access code: 617093# \nFor International and Online Access\, visit: www.debtorsanonymous.org/call-in-access  \nFor recordings of Fellowship-wide calls (when made available)\, visit:\n  www.debtorsanonymous.org/podcasts \nParticipants: Training will be open to all D.A. members\, both those who wish to learn how to respond to requests by the media for information about D. A.\, and members who would like to learn more about how to discuss D.A. with people outside of the Fellowship. \nPurpose of This Call: To train D.A. members who may wish to respond to inquiries from the media about D.A. \nFlyer: https://debtorsanonymous.org/wp-content/uploads/FwC-13Oct2018.pdf \nPlease share this information at your meetings
URL:https://www.debtorsanonymous.org/event/fellowship-wide-call-media-contact-training/
END:VEVENT
END:VCALENDAR