BEGIN:VCALENDAR
VERSION:2.0
PRODID:-//Debtors Anonymous - ECPv6.15.20//NONSGML v1.0//EN
CALSCALE:GREGORIAN
METHOD:PUBLISH
X-ORIGINAL-URL:https://www.debtorsanonymous.org
X-WR-CALDESC:Events for Debtors Anonymous
REFRESH-INTERVAL;VALUE=DURATION:PT1H
X-Robots-Tag:noindex
X-PUBLISHED-TTL:PT1H
BEGIN:VTIMEZONE
TZID:America/New_York
BEGIN:DAYLIGHT
TZOFFSETFROM:-0500
TZOFFSETTO:-0400
TZNAME:EDT
DTSTART:20170312T070000
END:DAYLIGHT
BEGIN:STANDARD
TZOFFSETFROM:-0400
TZOFFSETTO:-0500
TZNAME:EST
DTSTART:20171105T060000
END:STANDARD
BEGIN:DAYLIGHT
TZOFFSETFROM:-0500
TZOFFSETTO:-0400
TZNAME:EDT
DTSTART:20180311T070000
END:DAYLIGHT
BEGIN:STANDARD
TZOFFSETFROM:-0400
TZOFFSETTO:-0500
TZNAME:EST
DTSTART:20181104T060000
END:STANDARD
BEGIN:DAYLIGHT
TZOFFSETFROM:-0500
TZOFFSETTO:-0400
TZNAME:EDT
DTSTART:20190310T070000
END:DAYLIGHT
BEGIN:STANDARD
TZOFFSETFROM:-0400
TZOFFSETTO:-0500
TZNAME:EST
DTSTART:20191103T060000
END:STANDARD
END:VTIMEZONE
BEGIN:VEVENT
DTSTART;TZID=America/New_York:20181202T140000
DTEND;TZID=America/New_York:20181202T153000
DTSTAMP:20260419T103824
CREATED:20181020T231124Z
LAST-MODIFIED:20181022T190321Z
UID:2209-1543759200-1543764600@www.debtorsanonymous.org
SUMMARY:Fellowship-wide Call: A Spiritual Approach to Growing your Business: The Tools of BDA (Tools 7 – 12)
DESCRIPTION:The WSC Business Debtors Anonymous (BDA) Committee presents a Fellowship-wide Call: \nA Spiritual Approach to Growing your Business: The Tools of BDA (Tools 7 – 9) \nCall-in: 1-605-472-5540\, Access code: 617093 \nFor International and Online Access\, visit:\nwww.debtorsanonymous.org/call-in-access \nFor recordings of Fellowship-wide calls (when made available)\, visit:\nwww.debtorsanonymous.org/podcasts
URL:https://www.debtorsanonymous.org/event/fellowship-wide-call-a-spiritual-approach-to-growing-your-business-the-tools-of-bda-tools-7-12/
END:VEVENT
END:VCALENDAR