BEGIN:VCALENDAR
VERSION:2.0
PRODID:-//Debtors Anonymous - ECPv6.15.20//NONSGML v1.0//EN
CALSCALE:GREGORIAN
METHOD:PUBLISH
X-ORIGINAL-URL:https://www.debtorsanonymous.org
X-WR-CALDESC:Events for Debtors Anonymous
REFRESH-INTERVAL;VALUE=DURATION:PT1H
X-Robots-Tag:noindex
X-PUBLISHED-TTL:PT1H
BEGIN:VTIMEZONE
TZID:America/New_York
BEGIN:DAYLIGHT
TZOFFSETFROM:-0500
TZOFFSETTO:-0400
TZNAME:EDT
DTSTART:20170312T070000
END:DAYLIGHT
BEGIN:STANDARD
TZOFFSETFROM:-0400
TZOFFSETTO:-0500
TZNAME:EST
DTSTART:20171105T060000
END:STANDARD
BEGIN:DAYLIGHT
TZOFFSETFROM:-0500
TZOFFSETTO:-0400
TZNAME:EDT
DTSTART:20180311T070000
END:DAYLIGHT
BEGIN:STANDARD
TZOFFSETFROM:-0400
TZOFFSETTO:-0500
TZNAME:EST
DTSTART:20181104T060000
END:STANDARD
BEGIN:DAYLIGHT
TZOFFSETFROM:-0500
TZOFFSETTO:-0400
TZNAME:EDT
DTSTART:20190310T070000
END:DAYLIGHT
BEGIN:STANDARD
TZOFFSETFROM:-0400
TZOFFSETTO:-0500
TZNAME:EST
DTSTART:20191103T060000
END:STANDARD
END:VTIMEZONE
BEGIN:VEVENT
DTSTART;TZID=America/New_York:20180506T130000
DTEND;TZID=America/New_York:20180506T140000
DTSTAMP:20260420T021125
CREATED:20180426T160719Z
LAST-MODIFIED:20180426T160719Z
UID:1869-1525611600-1525615200@www.debtorsanonymous.org
SUMMARY:Fellowship-Wide Call: Finance Report
DESCRIPTION:This call will cover the following topics and provide an opportunity for members to learn about the following aspects of Debtors Anonymous’ current finances:\n \n\n\nBackground on D.A.’s financial management processes\n\n\n  \n\n\nThe status of the 2017 – 18 Spending Plan\n\n\n  \n\n\nThe services that are provided to the Fellowship by your 7th Tradition Donations\n\n\n \nPlease confirm the meeting time for your local time zone.\n\nThe focus of this call will be on current financial health of Debtors Anonymous. Three members of the Board’s Finance Committee will share their experience\, strength and hope on the status of the current spending plan\, an update on the status of donations and how your donations are being utilized. This portion of the call will be recorded. Participants will have time to ask questions and make comments. The question and comment portion of the call will not be recorded.\n\nDial-in number: 1-515-739-1424 Access code: 796199#\nPlayback: 1-515-739-1554 Access code: 796199# Press #\n\nPlease share this information at your meetings\n\nAfghanistan +93 72 989 0506\nAlbania +355 4 454 1704\nAlgeria +213 98 221 05 07\nArgentina +54 351 569-7182\nAustralia +61 2 8077 0506\nAustria +43 1 2650523\nBahrain +973 6500 9134\nBelgium +32 3 294 10 06\nBrazil +55 11 3042-5273\nBulgaria +359 2 495 1591\nCambodia +855 96 696 7796\nChile +56 44 890 9319\nColombia +57 6 7334212\nCosta Rica +506 4090 1314\nCroatia +385 1 8000 076\nCyprus +357 77 788675\nCzech +420 225 852 072\nDenmark +45 93 75 41 58\nDominican Republic +1 829-239-8017\nEstonia +372 614 8082\nFinland +358 9 42721227\nGeorgia +995 706 777 114\nGermany +49 221 98203455\nGuatemala +502 2458 1434\nHungary +36 1 987 6894\nIceland +354 632 9708\nIndia +91 172 519 9047\nIreland +353 90 646 4163\nIsrael +972 55-966-1084\nItaly +39 051 092 0292\nJapan +81 3-5050-5103\nKenya +254 20 7653263\nKosovo +381 38 413914\nLatvia +371 67 660 180\nLithuania +370 46 268644\nLuxembourg +352 20 30 12 13\nMalawi +265 212 342 009\nMalaysia +60 11-1146 0081\nMalta +356 2031 0007\nMexico +52 899 274 8574\nNetherlands +31 6 56251809\nNew Zealand +64 6-928 7532\nNigeria +234 1 440 5274\nNorway +47 56 90 10 22\nPakistan +92 21 37132312\nPanama +507 833-6922\nPoland +48 22 116 85 43\nPortugal +351 21 114 3151\nRomania +40 31 780 7034\nRussian Federation +7 499 371-07-14\nSingapore +65 3138 9208\nSlovakia +421 55/230 45 32\nSlovenia +386 1 828 03 32\nSouth Africa +27 87 825 0143\nSouth Korea +82 70-7737-3402\nSpain +34 857 80 11 13\nSweden +46 8 124 107 82\nSwitzerland +41 44 513 30 29\nTanzania +255 41 120 1000\nTurkey +90 212 988 17 53\nUkraine +380 94 710 5553\nUnited Kingdom +44 330 390 2112\nUnited States +1 515-739-1424\n\n\nPlease share this message with other meetings you may attend.
URL:https://www.debtorsanonymous.org/event/fellowship-wide-call-finance-report/
END:VEVENT
BEGIN:VEVENT
DTSTART;VALUE=DATE:20180515
DTEND;VALUE=DATE:20180516
DTSTAMP:20260420T021125
CREATED:20180428T213424Z
LAST-MODIFIED:20180428T213424Z
UID:1879-1526342400-1526428799@www.debtorsanonymous.org
SUMMARY:Call for Proposals for D.A. Step Study and Basic Text Writers
DESCRIPTION:The D.A. General Service Board’s Literature Services Committee is requesting proposals for spiritually-inspired\, experienced writers to create the Fellowship’s Basic Text and/or Step Study Guide\n \nEach author must be: \n\n\nA current\, recovering\, non-debting member of D.A. with a minimum of three years of not incurring unsecured debt in the Debtors Anonymous program\n\n\n Actively working the Twelve Steps of Debtors Anonymous\n\n\n An experienced writer with demonstrated ability to deliver a substantial book-length manuscript\n\n\n Willing to complete this project as a work for hire\, to assign all rights to the work to Debtors Anonymous and to maintain anonymity with regard to authorship.\n\n\nFor more details\, download this document: \n    \n    \n    \n    \n    Call for Proposals for Basic Text and Step Study Guide Writers
URL:https://www.debtorsanonymous.org/event/call-for-proposals-for-d-a-and-basic-text-writers/
END:VEVENT
BEGIN:VEVENT
DTSTART;VALUE=DATE:20180515
DTEND;VALUE=DATE:20180516
DTSTAMP:20260420T021125
CREATED:20180515T164545Z
LAST-MODIFIED:20180428T213216Z
UID:1874-1526342400-1526428799@www.debtorsanonymous.org
SUMMARY:Call for Proposals for Basic Text and Step Study Guide Writers
DESCRIPTION:The D.A. General Service Board’s Literature Services Committee is requesting proposals for spiritually-inspired\, experienced writers to create the Fellowship’s Basic Text and/or Step Study Guide \n \nEach author must be: \n\n\nA current\, recovering\, non-debting member of D.A. with a minimum of three years of not incurring unsecured debt in the Debtors Anonymous program \n\n\n Actively working the Twelve Steps of Debtors Anonymous \n\n\n An experienced writer with demonstrated ability to deliver a substantial book-length manuscript \n\n\n Willing to complete this project as a work for hire\, to assign all rights to the work to Debtors Anonymous and to maintain anonymity with regard to authorship.\n\n\nFor more details\, download this document: \n    \n    \n    \n    \n    Call for Proposals for Basic Text and Step Study Guide Writers
URL:https://www.debtorsanonymous.org/event/call-for-proposals-for-basic-text-and-step-study-guide-writers/
END:VEVENT
END:VCALENDAR